BEGIN:VCALENDAR
VERSION:2.0
PRODID:-//ChamberMaster//Event Calendar 2.0//EN
METHOD:PUBLISH
X-PUBLISHED-TTL:P3D
REFRESH-INTERVAL:P3D
CALSCALE:GREGORIAN
BEGIN:VEVENT
DTSTART:20260312T170000Z
DTEND:20260312T180000Z
X-MICROSOFT-CDO-ALLDAYEVENT:FALSE
SUMMARY:2026 AGM & Free Business Lunch
DESCRIPTION:2026 ANNUAL GENERAL MEETING\n\nThe Yellowknife Chamber of Commerce invites all members to attend our Annual General Meeting.\n\n\n\nLunch is complimentary for all members in attendance.\n\n\n\nThis is your opportunity to:\n\n\n	Review the Yellowknife Chamber of Commerce 's 2025 activities and financials\n	Participate in governance discussions\n	Connect with fellow members\n	Be involved in helping to shape the Chamber going forward\n\n\nMEMBERS ONLY EVENT\n\nThis event is open to all members in good standing.  \n\nIf your need to confirm or pay your 2026 membership dues or have difficulty registering for the event\, please contact us at executivedirector@ykchamber.com or call 867-920-4944.\n\n\n\nThe 2026 AGM Agenda can be found here. \n\n \n\nSeating is limited\, RSVP is required.
X-ALT-DESC;FMTTYPE=text/html:<h2 data-end="409" data-start="373"><strong>2026 ANNUAL GENERAL MEETING</strong></h2>\n\n<div data-end="565" data-start="468"><span style="font-size:14px\;">The Yellowknife Chamber of Commerce invites all members to attend our <strong data-end="564" data-start="538">Annual General Meeting</strong>.<br />\n<br />\n<strong>Lunch is complimentary for all members in attendance.</strong><br />\n<br />\nThis is your opportunity to:</span></div>\n\n<ul>\n	<li data-end="565" data-start="468"><span style="font-size:14px\;"><span style="font-family:arial\;">Review the Yellowknife Chamber of Commerce &#39\;s 2025 activities and financials</span></span></li>\n	<li data-end="565" data-start="468"><span style="font-size:14px\;"><span style="font-family:arial\;">Participate in governance discussions</span></span></li>\n	<li data-end="565" data-start="468"><span style="font-size:14px\;"><span style="font-family:arial\;">Connect with fellow members</span></span></li>\n	<li style="padding: 0px\; margin: 0px\;"><span style="font-size:14px\;"><span style="font-family:arial\;"><span style="color: rgb(51\, 51\, 51)\;">Be involved in helping to shape the Chamber going forward</span></span></span></li>\n</ul>\n\n<p data-end="565" data-start="468"><span style="font-size:18px\;"><strong>MEMBERS ONLY EVENT</strong></span><br />\n<span style="color:#FF0000\;"><strong>This event is open to all members in good standing.&nbsp\;&nbsp\;</strong></span><br />\n<span style="font-size:12px\;"><span style="font-family:arial\;">If your need to confirm or pay your 2026 membership dues or have difficulty registering for the event\, please contact us at executivedirector@ykchamber.com or&nbsp\;call 867-920-4944.</span></span><br />\n<br />\n<span style="font-size:14px\;">The 2026 AGM Agenda can be found <a href="https://ykchamber.com/assets/pdf/2026+AGM+AGENDA">here</a>.&nbsp\;</span><br />\n<span style="color: rgb(255\, 51\, 102)\;"><strong>&nbsp\;</strong></span></p>\n\n<p style="text-align: center\;"><span style="font-size:24px\;"><span style="color:#FF0000\;"><strong>Seating is limited\, RSVP is required.</strong></span></span></p>\n
LOCATION:The Explorer Hotel - Katimavik D 4825 49th Avenue
UID:e.2861.1138
SEQUENCE:3
DTSTAMP:20260420T081413Z
URL:https://business.ykchamber.com/events/details/2026-agm-free-business-lunch-1138
END:VEVENT

END:VCALENDAR
