BEGIN:VCALENDAR
VERSION:2.0
PRODID:-//ChamberMaster//Event Calendar 2.0//EN
METHOD:PUBLISH
X-PUBLISHED-TTL:P3D
REFRESH-INTERVAL:P3D
CALSCALE:GREGORIAN
BEGIN:VEVENT
DTSTART:20200630T220000Z
DTEND:20200701T033000Z
X-MICROSOFT-CDO-ALLDAYEVENT:FALSE
SUMMARY:Business After Hours
DESCRIPTION:Yellowknife Chamber of Commerce\n\nBusiness After Hours \n\nhosted by Blachford Lake Lodge\n\n\n\nwww.blachfordlakelodge.com\n\n\n\nTuesday\, June 30th\, 2020\n\n$150/person + GST and gratuities \n\nInfants 2 years old and under are free\, children ages 3-12 receive a $50 discount.\n\n\n\nMax 25 people\, first come first serve\n\nDeparting from Yellowknife - 4:00pm and 6:00pm\n\nReturning to Yellowknife - 8:30pm and 9:30pm \n\n\n\nAll passengers/guests must complete the following forms by June 25th\, 2020:\n\n\n\nChamber After Hours Booking Form\n\n\n\nLiability Waiver\n\n\n\nCHAMBER MEMBER EXCLUSIVE\n\nExtend Your Stay for Canada Day!\n\n\n\nReturn - Wednesday\, July 1st - $200/person +GST and gratuities\n\nor\n\nReturn - Friday\, July 3rd - $700/person +GST and gratuities\n\n\n\nCanada Day Celebration Includes:\n\n	Complimentary Canada Day Cocktail\n	Fish Fry Lunch on Royal Island\n	Canada Day Ultimate Outdoor Champion Competition\n\nPlease RSVP by June 25th\, 2020
X-ALT-DESC;FMTTYPE=text/html:Yellowknife Chamber of Commerce<br />\nBusiness After Hours&nbsp\;<br />\nhosted by Blachford Lake Lodge<br />\n<br />\n<a href="http://www.blachfordlakelodge.com">www.blachfordlakelodge.com</a><br />\n<br />\nTuesday\, June 30th\, 2020<br />\n$150/person + GST and gratuities&nbsp\;<br />\nInfants 2 years old and under are free\, children ages 3-12 receive a $50 discount.<br />\n<br />\nMax 25 people\, first come first serve<br />\nDeparting from Yellowknife - 4:00pm and 6:00pm<br />\nReturning to Yellowknife - 8:30pm and 9:30pm&nbsp\;<br />\n<br />\nAll passengers/guests must complete the following forms by June 25th\, 2020:<br />\n<br />\n<a href="https://files.constantcontact.com/5ce59cb2401/1fbbf7b2-c3e1-41ec-bc31-18287612bddb.docx">Chamber After Hours Booking Form</a><br />\n<br />\n<a href="https://files.constantcontact.com/5ce59cb2401/912986cd-5ddb-4100-8aa5-e575cc176e8c.docx">Liability Waiver</a><br />\n<br />\n<strong>CHAMBER MEMBER EXCLUSIVE</strong><br />\nExtend Your Stay for Canada Day!<br />\n<br />\nReturn - Wednesday\, July 1st - $200/person +GST and gratuities<br />\nor<br />\nReturn - Friday\, July 3rd - $700/person +GST and gratuities<br />\n<br />\n<strong>Canada Day Celebration Includes:</strong>\n<ul>\n	<li>Complimentary Canada Day Cocktail</li>\n	<li>Fish Fry Lunch on Royal Island</li>\n	<li>Canada Day Ultimate Outdoor Champion Competition</li>\n</ul>\nPlease RSVP by June 25th\, 2020
LOCATION:Blachford Lake Lodge is set on a remote jewel of a lake\, just 20 minutes by charter aircraft from Yellowknife\, capital of Canada's Northwest Territories. In late summer\, the Aurora can often fill the night sky\, reflecting off the shimmering waters of Blachford Lake. On crisp winter nights\, the Aurora\, the moon and the stars light your way on snow covered paths.
UID:e.2861.1097
SEQUENCE:3
DTSTAMP:20260426T013504Z
URL:https://business.ykchamber.com/events/details/business-after-hours-1097
END:VEVENT

END:VCALENDAR
