BEGIN:VCALENDAR
VERSION:2.0
PRODID:-//ChamberMaster//Event Calendar 2.0//EN
METHOD:PUBLISH
X-PUBLISHED-TTL:P3D
REFRESH-INTERVAL:P3D
CALSCALE:GREGORIAN
BEGIN:VEVENT
DTSTART:20200924T180000Z
DTEND:20200924T190000Z
X-MICROSOFT-CDO-ALLDAYEVENT:FALSE
SUMMARY:Business After Hours: Great Slave Lake Tours
DESCRIPTION:Learn about the eco-system of Great Slave Lake and the reality of harvesting fish commercially from Shawn Buckley\, owner/operator of Great Slave Lake Tours.\n\n\n\nWith over 30 years of commercial fishing under the belt\, you're getting the real deal. Shawn's expertise and knowledge of the lake guarantee you the best guiding skills and local insight available to make your trip more than worthwhile.\n\n\n\nGet your feet wet for an hour of sightseeing on Great Slave Lake.\n\nLight snacks and wild picked tea will be provided.\n\nCan accommodate groups of 4-12 people.\n\n\n\nRegister Now by emailing shawnbuckley67@gmail.com or by calling 867-875-8077
X-ALT-DESC;FMTTYPE=text/html:Learn about the eco-system of Great Slave Lake and the reality of harvesting fish commercially from Shawn Buckley\, owner/operator of Great Slave Lake Tours.<br />\n<br />\nWith over 30 years of commercial fishing under the belt\, you&rsquo\;re getting the real deal. Shawn&rsquo\;s expertise and knowledge of the lake guarantee you the best guiding skills and local insight available to make your trip more than worthwhile.<br />\n<br />\nGet your feet wet for an hour of sightseeing on Great Slave Lake.<br />\nLight snacks and wild picked tea will be provided.<br />\nCan accommodate groups of 4-12 people.<br />\n<br />\nRegister Now by emailing shawnbuckley67@gmail.com or by calling 867-875-8077
LOCATION:Great Slave Lake
UID:e.2861.1109
SEQUENCE:3
DTSTAMP:20260425T192640Z
URL:https://business.ykchamber.com/events/details/business-after-hours-great-slave-lake-tours-1109
END:VEVENT

END:VCALENDAR
