BEGIN:VCALENDAR
VERSION:2.0
PRODID:-//ChamberMaster//Event Calendar 2.0//EN
METHOD:PUBLISH
X-PUBLISHED-TTL:P3D
REFRESH-INTERVAL:P3D
CALSCALE:GREGORIAN
BEGIN:VEVENT
DTSTART:20201021T213000Z
DTEND:20201021T223000Z
X-MICROSOFT-CDO-ALLDAYEVENT:FALSE
SUMMARY:Changing the Change: Leading Complex Team Projects with Passion
DESCRIPTION:Sometimes a deep question is worth more than a straight answer. Every year\, around the world\, over 70% of change management projects fail. The reason they fail isn't because of a lack of sophisticated technology. It's not because systems and processes aren't in place. It's because of flawed leadership and management.\n\n\n\nAt a time when we know more than ever about change and leadership\, how can it be that these recurring challenges are costing organizations on almost every key performance indicator? The answer is simple: Leaders need to build more connective and collective intelligence into their behaviours.\n\n\n\nThe good news is that there is a positive way forward to bake this new awareness into complex teamwork. In this keynote\, audiences will learn how to:\n\n\n\n  Recognize eight different kinds of workplace change\, reframing their current challenges\n\n  Pose the five "how" questions to analyze and explore current behaviours and practices that are hindering performance\n\n  Master eight practices\, optimizing these different forms of change to achieve results\n\n\n\nWhen leaders harness change to work for them\, they smash through silos\, tackling dysfunctional dynamics\, wicked problems and generating stronger performance outcomes.\n\n\n\nPresented By: Jill Birch\n\nLeadership and Organizational Change Expert
X-ALT-DESC;FMTTYPE=text/html:Sometimes a deep question is worth more than a straight answer. Every year\, around the world\, over 70% of change management projects fail. The reason they fail isn&rsquo\;t because of a lack of sophisticated technology. It&rsquo\;s not because systems and processes aren&rsquo\;t in place. It&rsquo\;s because of flawed leadership and management.<br />\n<br />\nAt a time when we know more than ever about change and leadership\, how can it be that these recurring challenges are costing organizations on almost every key performance indicator? The answer is simple: Leaders need to build more connective and collective intelligence into their behaviours.<br />\n<br />\nThe good news is that there is a positive way forward to bake this new awareness into complex teamwork. In this keynote\, audiences will learn how to:<br />\n<br />\n&bull\; Recognize eight different kinds of workplace change\, reframing their current challenges<br />\n&bull\; Pose the five &ldquo\;how&rdquo\; questions to analyze and explore current behaviours and practices that are hindering performance<br />\n&bull\; Master eight practices\, optimizing these different forms of change to achieve results<br />\n<br />\nWhen leaders harness change to work for them\, they smash through silos\, tackling dysfunctional dynamics\, wicked problems and generating stronger performance outcomes.<br />\n<br />\nPresented By: Jill Birch<br />\nLeadership and Organizational Change Expert
LOCATION:Zoom links will be sent out 1 day in advance. RSVP to: Admin@YKChamber.com and indicate whether you'd like to attend in-person or virtually.
UID:e.2861.1114
SEQUENCE:3
DTSTAMP:20260425T192355Z
URL:https://business.ykchamber.com/events/details/changing-the-change-leading-complex-team-projects-with-passion-1114
END:VEVENT

END:VCALENDAR
