BEGIN:VCALENDAR
VERSION:2.0
PRODID:-//ChamberMaster//Event Calendar 2.0//EN
METHOD:PUBLISH
X-PUBLISHED-TTL:P3D
REFRESH-INTERVAL:P3D
CALSCALE:GREGORIAN
BEGIN:VEVENT
DTSTART:20200818T200000Z
DTEND:20200818T210000Z
X-MICROSOFT-CDO-ALLDAYEVENT:FALSE
SUMMARY:On Demand Webinar: City of Yellowknife
DESCRIPTION:Richard McIntosh\, City of Yellowknife Economic Development Officer and Libby MacPhail\, City Planner\, will present opportunities to use outdoor spaces such as sidewalks and parking spots to expand your business's footprint. Share your ideas on how the City can assist in mitigating COVID restrictions put in place that businesses must adhere to.
X-ALT-DESC;FMTTYPE=text/html:Richard McIntosh\, City of Yellowknife Economic Development Officer and Libby MacPhail\, City Planner\, will present opportunities to use outdoor spaces such as sidewalks and parking spots to expand your business&#39\;s footprint. Share your ideas on how the City can assist in mitigating COVID restrictions put in place that businesses must adhere to.
LOCATION:To join the meeting: https://adobe.ly/31ZeEO5
UID:e.2861.1106
SEQUENCE:3
DTSTAMP:20260425T210803Z
URL:https://business.ykchamber.com/events/details/on-demand-webinar-city-of-yellowknife-1106
END:VEVENT

END:VCALENDAR
