BEGIN:VCALENDAR
VERSION:2.0
PRODID:-//ChamberMaster//Event Calendar 2.0//EN
METHOD:PUBLISH
X-PUBLISHED-TTL:P3D
REFRESH-INTERVAL:P3D
CALSCALE:GREGORIAN
BEGIN:VEVENT
DTSTART:20200805T200000Z
DTEND:20200805T210000Z
X-MICROSOFT-CDO-ALLDAYEVENT:FALSE
SUMMARY:On Demand Webinar: Kristen Au Marketing
DESCRIPTION:Presented by Kristen Au Marketing\n\nKristen demonstrates how you can maximize the advantage of social media marketing to connect your business to your target audience.\n\n\n\nTopics include the differences between traditional advertising and content marketing\, as well as unlocking the secrets of the Instagram algorithm in boosting your visibility\, strategic branding\, and content creation.
X-ALT-DESC;FMTTYPE=text/html:<strong style="box-sizing: border-box\; color: rgb(85\, 85\, 85)\; font-family: Montserrat\, sans-serif\; font-size: 16px\; text-align: center\; background-color: rgb(255\, 255\, 255)\;"><span style="box-sizing: border-box\; font-size: 14px\;">Presented by Kristen Au Marketing</span></strong><br />\nKristen demonstrates how you can maximize the advantage of social media marketing to connect your business to your target audience.<br />\n<br />\nTopics include the differences between traditional advertising and content marketing\, as well as unlocking the secrets of the Instagram algorithm in boosting your visibility\, strategic branding\, and content creation.
LOCATION:To review a recording of this presentation\, click here. The slides from the presentation are here.
UID:e.2861.1102
SEQUENCE:3
DTSTAMP:20260425T210630Z
URL:https://business.ykchamber.com/events/details/on-demand-webinar-kristen-au-marketing-1102
END:VEVENT

END:VCALENDAR
