BEGIN:VCALENDAR
VERSION:2.0
PRODID:-//ChamberMaster//Event Calendar 2.0//EN
METHOD:PUBLISH
X-PUBLISHED-TTL:P3D
REFRESH-INTERVAL:P3D
CALSCALE:GREGORIAN
BEGIN:VEVENT
DTSTART:20200812T200000Z
DTEND:20200812T210000Z
X-MICROSOFT-CDO-ALLDAYEVENT:FALSE
SUMMARY:On Demand Webinar: RBC
DESCRIPTION:Small Business\, Big Pivot\n\nPresented by the Royal Bank of Canada\n\n\n\nWednesday\, August 12th\, 2020\n\n2:00pm - 3:00pm MST\n\n\n\nPlease RSVP to Programs@YKChamber.com\n\n\n\nDawn Desjardins\, Vice President & Deputy Chief Economist for RBC will be presenting via webinar from Toronto.\n\n\n\nSmall businesses have borne the brunt of the downturn in the economy from policies aimed at combatting COVID-19. This presentation will discuss the impact COVID-19 has had on Canada's economy in the context of what's happening in globally. Given that small enterprises are crucial to the Canadian economy   representing 42% of GDP and 48% of new jobs   and are at greatest danger in this unique recession\, steps must be taken to help them survive the downturn and thrive during the recovery.
X-ALT-DESC;FMTTYPE=text/html:Small Business\, Big Pivot<br />\nPresented by the Royal Bank of Canada<br />\n<br />\nWednesday\, August 12th\, 2020<br />\n2:00pm - 3:00pm MST<br />\n<br />\nPlease RSVP to Programs@YKChamber.com<br />\n<br />\nDawn Desjardins\, Vice President &amp\; Deputy Chief Economist for RBC will be presenting via webinar from Toronto.<br />\n<br />\nSmall businesses have borne the brunt of the downturn in the economy from policies aimed at combatting COVID-19. This presentation will discuss the impact COVID-19 has had on Canada&rsquo\;s economy in the context of what&rsquo\;s happening in globally. Given that small enterprises are crucial to the Canadian economy &ndash\; representing 42% of GDP and 48% of new jobs &ndash\; and are at greatest danger in this unique recession\, steps must be taken to help them survive the downturn and thrive during the recovery.
LOCATION:
UID:e.2861.1104
SEQUENCE:3
DTSTAMP:20260425T210357Z
URL:https://business.ykchamber.com/events/details/on-demand-webinar-rbc-1104
END:VEVENT

END:VCALENDAR
