BEGIN:VCALENDAR
VERSION:2.0
PRODID:-//ChamberMaster//Event Calendar 2.0//EN
METHOD:PUBLISH
X-PUBLISHED-TTL:P3D
REFRESH-INTERVAL:P3D
CALSCALE:GREGORIAN
BEGIN:VEVENT
DTSTART:20200826T200000Z
DTEND:20200826T210000Z
X-MICROSOFT-CDO-ALLDAYEVENT:FALSE
SUMMARY:On Demand Webinar: TliCho Investment Corporation
DESCRIPTION:Navigating the Spectrum of Human Resources Through a Pandemic\n\nPresented by Tlicho Investment Corporation\n\nWednesday\, August 26th\, 2020\n\n2:00pm - 3:00pm MST\n\nPlease RSVP to Programs@YKChamber.com\n\nPresented by: Sarah Hunt\, CPHR\, Director of Human Resources\, Training and Development\, Tlicho Investment Corporation\n\nNavigating through a global pandemic such as the current COVID-19 pandemic was not something that many businesses foreshadowed or planned for as being their highlight of 2020 to-date. From a Human Resources perspective\, this presentation will speak to the impacts of the current pandemic on a company's most important assets\; their people.\n\nFrom personal/professional experience and actions\, Sarah will discuss issues that company leaders and human resources professionals may have (or are currently still) experienced\, and suggestions on how to prepare and remain flexible in uncertain times.\n\nTopics covered will include:\n\n\n	Developing flexible plans & communication\n	Safety impacts and considerations\n	Employment impacts (layoffs\, termination\, benefits\, pay\, work schedules)\, along with associated employment legislation considerations\n	Mental health\, compassion fatigue and how to hold effective mental health conversations\n	Recruitment
X-ALT-DESC;FMTTYPE=text/html:<p style="box-sizing: border-box\; margin: 0px 0px 10px\; color: rgb(85\, 85\, 85)\; font-family: Montserrat\, sans-serif\; font-size: 16px\;"><strong style="box-sizing: border-box\;"><span style="box-sizing: border-box\; font-size: 26px\;"><span style="box-sizing: border-box\; font-size: 22px\; color: rgb(0\, 0\, 0)\;">Navigating the Spectrum of Human Resources Through a Pandemic</span></span></strong><br style="box-sizing: border-box\;" />\n<span style="box-sizing: border-box\; color: rgb(0\, 0\, 0)\;"><strong style="box-sizing: border-box\;"><span style="box-sizing: border-box\; font-size: 14px\;">Presented by Tlicho Investment Corporation</span></strong></span><br style="box-sizing: border-box\;" />\n<span style="box-sizing: border-box\; font-size: 14px\; color: rgb(0\, 0\, 0)\;">Wednesday\, August 26th\, 2020</span><br style="box-sizing: border-box\;" />\n<span style="box-sizing: border-box\; font-size: 14px\; color: rgb(0\, 0\, 0)\;">2:00pm - 3:00pm MST</span></p>\n\n<p style="box-sizing: border-box\; margin: 0px 0px 10px\; color: rgb(85\, 85\, 85)\; font-family: Montserrat\, sans-serif\; font-size: 16px\;"><span style="box-sizing: border-box\; font-size: 14px\;"><span style="box-sizing: border-box\; color: rgb(0\, 0\, 0)\;">Please RSVP to</span>&nbsp\;<strong style="box-sizing: border-box\;"><span style="box-sizing: border-box\; color: rgb(70\, 155\, 213)\;"><a href="mailto:Programs@YKChamber.com" style="box-sizing: border-box\; background-color: transparent\; color: rgb(70\, 155\, 213)\; text-decoration-line: none\;">Programs@YKChamber.com</a></span></strong></span></p>\n\n<p style="box-sizing: border-box\; margin: 0px 0px 10px\; color: rgb(85\, 85\, 85)\; font-family: Montserrat\, sans-serif\; font-size: 16px\;"><span style="box-sizing: border-box\; font-size: 14px\; color: rgb(0\, 0\, 0)\;">Presented by: Sarah Hunt\, CPHR\, Director of Human Resources\, Training and Development\, Tlicho Investment Corporation</span></p>\n\n<p style="box-sizing: border-box\; margin: 0px 0px 10px\; color: rgb(85\, 85\, 85)\; font-family: Montserrat\, sans-serif\; font-size: 16px\;"><span style="box-sizing: border-box\; font-size: 14px\; color: rgb(0\, 0\, 0)\;">Navigating through a global pandemic such as the current COVID-19 pandemic was not something that many businesses foreshadowed or planned for as being their highlight of 2020 to-date. From a Human Resources perspective\, this presentation will speak to the impacts of the current pandemic on a company&rsquo\;s most important assets\; their people.</span></p>\n\n<p style="box-sizing: border-box\; margin: 0px 0px 10px\; color: rgb(85\, 85\, 85)\; font-family: Montserrat\, sans-serif\; font-size: 16px\;"><span style="box-sizing: border-box\; font-size: 14px\; color: rgb(0\, 0\, 0)\;">From personal/professional experience and actions\, Sarah will discuss issues that company leaders and human resources professionals may have (or are currently still) experienced\, and suggestions on how to prepare and remain flexible in uncertain times.</span></p>\n\n<p style="box-sizing: border-box\; margin: 0px 0px 10px\; color: rgb(85\, 85\, 85)\; font-family: Montserrat\, sans-serif\; font-size: 16px\;"><span style="box-sizing: border-box\; font-size: 14px\; color: rgb(0\, 0\, 0)\;">Topics covered will include:</span></p>\n\n<ul style="box-sizing: border-box\; margin-top: 0px\; margin-bottom: 10px\; color: rgb(85\, 85\, 85)\; font-family: Montserrat\, sans-serif\; font-size: 16px\;">\n	<li style="box-sizing: border-box\;"><span style="box-sizing: border-box\; font-size: 14px\; color: rgb(0\, 0\, 0)\;">Developing flexible plans &amp\; communication</span></li>\n	<li style="box-sizing: border-box\;"><span style="box-sizing: border-box\; font-size: 14px\; color: rgb(0\, 0\, 0)\;">Safety impacts and considerations</span></li>\n	<li style="box-sizing: border-box\;"><span style="box-sizing: border-box\; font-size: 14px\; color: rgb(0\, 0\, 0)\;">Employment impacts (layoffs\, termination\, benefits\, pay\, work schedules)\, along with associated employment legislation considerations</span></li>\n	<li style="box-sizing: border-box\;"><span style="box-sizing: border-box\; font-size: 14px\; color: rgb(0\, 0\, 0)\;">Mental health\, compassion fatigue and how to hold effective mental health conversations</span></li>\n	<li style="box-sizing: border-box\;"><span style="box-sizing: border-box\; font-size: 14px\; color: rgb(0\, 0\, 0)\;">Recruitment</span></li>\n</ul>\n
LOCATION:
UID:e.2861.1107
SEQUENCE:3
DTSTAMP:20260425T210941Z
URL:https://business.ykchamber.com/events/details/on-demand-webinar-tlicho-investment-corporation-1107
END:VEVENT

END:VCALENDAR
