BEGIN:VCALENDAR
VERSION:2.0
PRODID:-//ChamberMaster//Event Calendar 2.0//EN
METHOD:PUBLISH
X-PUBLISHED-TTL:P3D
REFRESH-INTERVAL:P3D
CALSCALE:GREGORIAN
BEGIN:VEVENT
DTSTART:20200521T200000Z
DTEND:20200521T210000Z
X-MICROSOFT-CDO-ALLDAYEVENT:FALSE
SUMMARY:On Demand Webinar: WSCC
DESCRIPTION:Keeping Workers Safe & FAQ for Employers\n\n \n\n\nWSCC is the arm's length government agency responsible for administering the Workers' Compensation Acts\, Occupational Health and Safety Regulations\, Explosives Use Acts and the Mine Health and Safety Acts in the Northwest Territories and Nunavut.\n\n \n\nThe WSCC promotes workplace health and safety while providing no-fault insurance to employers and care for injured workers.\n\n \n\nCary Ingram\, Chief Inspector of Mines and Occupational Health and Safety\, and Meta Antolin\, Manager of Occupational Health and Safety Programs will speak to us about keeping workplaces safe during COVID-19. Their presentation will cover important and timely topics such as:\n\n \n\n	The WSCC's role in helping employers and workers keep our workplaces safe\;\n	The hazards associated with COVID-19\, and measures you must take to protect yourself and your workers\;\n	An overview of the WSCC Risk Assessment and Field Level Risk Assessment\, which the Chief Public Health Officer has recently made mandatory for all businesses preparing to re-open.\n\n \n\nCary and Meta will then answer questions submitted by our members. There will be an opportunity at the end to ask any other questions about workplace safety you might have that hasn't been covered.
X-ALT-DESC;FMTTYPE=text/html:<div style="box-sizing: border-box\; color: rgb(85\, 85\, 85)\; font-family: Montserrat\, sans-serif\; font-size: 16px\; text-align: center\;">\n<div style="box-sizing: border-box\; color: rgb(85\, 85\, 85)\; font-family: Montserrat\, sans-serif\; font-size: 16px\; text-align: center\;"><strong style="box-sizing: border-box\;">Keeping Workers Safe &amp\; FAQ for Employers</strong></div>\n\n<div style="box-sizing: border-box\; color: rgb(85\, 85\, 85)\; font-family: Montserrat\, sans-serif\; font-size: 16px\; text-align: center\;">&nbsp\;</div>\n</div>\n\n<div style="box-sizing: border-box\; color: rgb(85\, 85\, 85)\; font-family: Montserrat\, sans-serif\; font-size: 16px\;">WSCC is the arm&rsquo\;s length government agency responsible for administering the <em>Workers&#39\; Compensation Acts\, Occupational Health and Safety Regulations</em>\, <em>Explosives Use Acts</em> and the <em>Mine Health and Safety Acts</em> in the Northwest Territories and Nunavut.<br />\n&nbsp\;<br />\nThe WSCC promotes workplace health and safety while providing no-fault insurance to employers and care for injured workers.<br />\n&nbsp\;<br />\nCary Ingram\, Chief Inspector of Mines and Occupational Health and Safety\, and Meta Antolin\, Manager of Occupational Health and Safety Programs will speak to us about keeping workplaces safe during COVID-19. Their presentation will cover important and timely topics such as:<br />\n&nbsp\;\n<ul>\n	<li>The WSCC&rsquo\;s role in helping employers and workers keep our workplaces safe\;</li>\n	<li>The hazards associated with COVID-19\, and measures you must take to protect yourself and your workers\;</li>\n	<li>An overview of the WSCC Risk Assessment and Field Level Risk Assessment\, which the Chief Public Health Officer has recently made mandatory for all businesses preparing to re-open.</li>\n</ul>\n&nbsp\;<br />\nCary and Meta will then answer questions submitted by our members. There will be an opportunity at the end to ask any other questions about workplace safety you might have that hasn&rsquo\;t been covered.<br />\n&nbsp\;</div>\n
LOCATION:Presented by WSCC on Thursday\, May 21st\, 2020 To review the recording of this presentation\, click here. The slides from the presentation are here.
UID:e.2861.1093
SEQUENCE:3
DTSTAMP:20260426T025239Z
URL:https://business.ykchamber.com/events/details/on-demand-webinar-wscc-1093
END:VEVENT

END:VCALENDAR
